BEGIN:VCALENDAR
VERSION:2.0
PRODID:-//ICMA - ECPv5.16.1.1//NONSGML v1.0//EN
CALSCALE:GREGORIAN
METHOD:PUBLISH
X-ORIGINAL-URL:https://theicmacademy.org
X-WR-CALDESC:Events for ICMA
REFRESH-INTERVAL;VALUE=DURATION:PT1H
X-Robots-Tag:noindex
X-PUBLISHED-TTL:PT1H
BEGIN:VTIMEZONE
TZID:UTC
BEGIN:STANDARD
TZOFFSETFROM:+0000
TZOFFSETTO:+0000
TZNAME:UTC
DTSTART:20230101T000000
END:STANDARD
END:VTIMEZONE
BEGIN:VEVENT
DTSTART;VALUE=DATE:20231213
DTEND;VALUE=DATE:20231214
DTSTAMP:20260425T121229
CREATED:20231211T172602Z
LAST-MODIFIED:20231211T172625Z
UID:7081-1702425600-1702511999@theicmacademy.org
SUMMARY:Professional Development Day - No School for Students - 12/13/23
DESCRIPTION:AsSalamu Alaykum! \nProfessional Development Day – No School for Students – 12/13/23 \nWasalam\, \nICMA Office
URL:https://theicmacademy.org/event/professional-development-day-no-school-for-students-12-13-23/
LOCATION:MD
CATEGORIES:School
END:VEVENT
END:VCALENDAR